BEGIN:VCALENDAR
VERSION:2.0
PRODID:-//https://www.jsm.gov.my///NONSGML kigkonsult.se iCalcreator 2.10.15//
METHOD:PUBLISH
BEGIN:VEVENT
UID:20260421T104800UTC-4311ucJMCE@https://www.jsm.gov.my/
DTSTAMP:20260421T104800Z
DESCRIPTION: https://jsm.gov.my/ms/orang-awam/e-penyertaan/kalendar-peristi
 wa/event/12-seminar-ms-iso-iec-17043-2023-conformity-assessment---general-
 requirements
DTSTART;VALUE=DATE:20240424
LOCATION:Puchong\, Selangor (Espira Kinrara)
SUMMARY:Seminar MS ISO/IEC 17043:2023 Conformity assessment – General requi
 rements
URL:https://jsm.gov.my/ms/orang-awam/e-penyertaan/kalendar-peristiwa/event/
 12-seminar-ms-iso-iec-17043-2023-conformity-assessment---general-requireme
 nts
END:VEVENT
END:VCALENDAR
