BEGIN:VCALENDAR
VERSION:2.0
PRODID:-//https://www.jsm.gov.my///NONSGML kigkonsult.se iCalcreator 2.10.15//
METHOD:PUBLISH
BEGIN:VEVENT
UID:20260421T105352UTC-0838xZZgpA@https://www.jsm.gov.my/
DTSTAMP:20260421T105352Z
DESCRIPTION: https://jsm.gov.my/ms/orang-awam/e-penyertaan/kalendar-peristi
 wa/event/22-sesi-konsultasi-umum-bagi-dms-iso-45002-2023-occupational-heal
 th-and-safety-management-systems-general-guidelines-for-the-implementation
 -of-iso-45001-2018
DTSTART;VALUE=DATE:20240704
LOCATION:Cyberjaya\, Selangor (Jabatan Standard Malaysia)
SUMMARY:Sesi Konsultasi umum bagi DMS ISO 45002:2023 -  Occupational health
  and safety management systems - General guidelines for the implementation
  of ISO 45001:2018
URL:https://jsm.gov.my/ms/orang-awam/e-penyertaan/kalendar-peristiwa/event/
 22-sesi-konsultasi-umum-bagi-dms-iso-45002-2023-occupational-health-and-sa
 fety-management-systems-general-guidelines-for-the-implementation-of-iso-4
 5001-2018
END:VEVENT
END:VCALENDAR
