BEGIN:VCALENDAR
VERSION:2.0
PRODID:-//https://www.jsm.gov.my///NONSGML kigkonsult.se iCalcreator 2.10.15//
METHOD:PUBLISH
BEGIN:VEVENT
UID:20260421T104446UTC-6187MM2czN@https://www.jsm.gov.my/
DTSTAMP:20260421T104446Z
DESCRIPTION: https://jsm.gov.my/ms/orang-awam/e-penyertaan/kalendar-peristi
 wa/event/3-seminar-pendidikan-standard
DTSTART;VALUE=DATE:20240606
LOCATION:Perak (ADTEC\, Taiping)
SUMMARY:Seminar Pendidikan Standard 
URL:https://jsm.gov.my/ms/orang-awam/e-penyertaan/kalendar-peristiwa/event/
 3-seminar-pendidikan-standard
END:VEVENT
END:VCALENDAR
