BEGIN:VCALENDAR
VERSION:2.0
PRODID:-//https://www.jsm.gov.my///NONSGML kigkonsult.se iCalcreator 2.10.15//
METHOD:PUBLISH
BEGIN:VEVENT
UID:20260421T105256UTC-1358b8p19H@https://www.jsm.gov.my/
DTSTAMP:20260421T105256Z
DESCRIPTION: https://jsm.gov.my/ms/orang-awam/e-penyertaan/kalendar-peristi
 wa/event/35-bengkel-hala-tuju-national-standards-committee-on-rubber-and-r
 ubber-products-nsc-14
DTSTART;VALUE=DATE:20240815
LOCATION:Sepang\, Selangor (Hotel Sama-Sama)
SUMMARY:Bengkel Hala Tuju National Standards Committee on Rubber and Rubber
  Products (NSC 14) 
URL:https://jsm.gov.my/ms/orang-awam/e-penyertaan/kalendar-peristiwa/event/
 35-bengkel-hala-tuju-national-standards-committee-on-rubber-and-rubber-pro
 ducts-nsc-14
END:VEVENT
END:VCALENDAR
