BEGIN:VCALENDAR
VERSION:2.0
PRODID:-//https://www.jsm.gov.my///NONSGML kigkonsult.se iCalcreator 2.10.15//
METHOD:PUBLISH
BEGIN:VEVENT
UID:20260421T104858UTC-4322VGHlpd@https://www.jsm.gov.my/
DTSTAMP:20260421T104858Z
DESCRIPTION: https://jsm.gov.my/ms/orang-awam/e-penyertaan/kalendar-peristi
 wa/event/4-seminar-ms-iso-56002-2019-innovation-management-management-syst
 em-guidance
DTSTART;VALUE=DATE:20240626
LOCATION:Kuala Lumpur (Asia Pacific University of Technology and Innovation
  (APU))
SUMMARY:Seminar MS ISO 56002:2019 - Innovation Management - Management Syst
 em - Guidance. 
URL:https://jsm.gov.my/ms/orang-awam/e-penyertaan/kalendar-peristiwa/event/
 4-seminar-ms-iso-56002-2019-innovation-management-management-system-guidan
 ce
END:VEVENT
END:VCALENDAR
